BEGIN:VCALENDAR
VERSION:2.0
PRODID:-//Rugby Club Terres Rouges - ECPv5.2.1.1//NONSGML v1.0//EN
CALSCALE:GREGORIAN
METHOD:PUBLISH
X-WR-CALNAME:Rugby Club Terres Rouges
X-ORIGINAL-URL:https://www.rctr.lu
X-WR-CALDESC:évènements pour Rugby Club Terres Rouges
BEGIN:VTIMEZONE
TZID:Europe/Luxembourg
BEGIN:DAYLIGHT
TZOFFSETFROM:+0100
TZOFFSETTO:+0200
TZNAME:CEST
DTSTART:20200329T010000
END:DAYLIGHT
BEGIN:STANDARD
TZOFFSETFROM:+0200
TZOFFSETTO:+0100
TZNAME:CET
DTSTART:20201025T010000
END:STANDARD
END:VTIMEZONE
BEGIN:VEVENT
DTSTART;TZID=Europe/Luxembourg:20200425T090000
DTEND;TZID=Europe/Luxembourg:20200425T123000
DTSTAMP:20210424T020222
CREATED:20190920T205613Z
LAST-MODIFIED:20190920T211259Z
UID:1138-1587805200-1587817800@www.rctr.lu
SUMMARY:J5 Lux League EDR Saison 2019-2020
DESCRIPTION:
URL:https://www.rctr.lu/event/j5-lux-league-edr-saison-2019-2020/
LOCATION:Weimerskirch\, 18-24 Rue de Sainth-Vith\, Luxembourg\, 2673\, Luxembourg
CATEGORIES:Compétition
END:VEVENT
END:VCALENDAR