BEGIN:VCALENDAR
VERSION:2.0
PRODID:-//Rugby Club Terres Rouges - ECPv4.9.12//NONSGML v1.0//EN
CALSCALE:GREGORIAN
METHOD:PUBLISH
X-WR-CALNAME:Rugby Club Terres Rouges
X-ORIGINAL-URL:http://www.rctr.lu
X-WR-CALDESC:Évènements pour Rugby Club Terres Rouges
BEGIN:VTIMEZONE
TZID:Europe/Luxembourg
BEGIN:DAYLIGHT
TZOFFSETFROM:+0100
TZOFFSETTO:+0200
TZNAME:CEST
DTSTART:20200329T010000
END:DAYLIGHT
BEGIN:STANDARD
TZOFFSETFROM:+0200
TZOFFSETTO:+0100
TZNAME:CET
DTSTART:20201025T010000
END:STANDARD
END:VTIMEZONE
BEGIN:VEVENT
DTSTART;TZID=Europe/Luxembourg:20200321T090000
DTEND;TZID=Europe/Luxembourg:20200321T123000
DTSTAMP:20200425T235254
CREATED:20190920T205612Z
LAST-MODIFIED:20190920T211134Z
UID:1137-1584781200-1584793800@www.rctr.lu
SUMMARY:J4 Lux League EDR Saison 2019-2020
DESCRIPTION:
URL:http://www.rctr.lu/event/j4-lux-league-edr-saison-2019-2020/
LOCATION:Dudelange – Stade John F. Kennedy\, rue John F. Kennedy\, Dudelange\, 3467\, Luxembourg
CATEGORIES:Compétition
END:VEVENT
END:VCALENDAR