BEGIN:VCALENDAR
VERSION:2.0
PRODID:-//Rugby Club Terres Rouges - ECPv4.9.12//NONSGML v1.0//EN
CALSCALE:GREGORIAN
METHOD:PUBLISH
X-WR-CALNAME:Rugby Club Terres Rouges
X-ORIGINAL-URL:http://www.rctr.lu
X-WR-CALDESC:Évènements pour Rugby Club Terres Rouges
BEGIN:VTIMEZONE
TZID:Europe/Luxembourg
BEGIN:DAYLIGHT
TZOFFSETFROM:+0100
TZOFFSETTO:+0200
TZNAME:CEST
DTSTART:20200329T010000
END:DAYLIGHT
BEGIN:STANDARD
TZOFFSETFROM:+0200
TZOFFSETTO:+0100
TZNAME:CET
DTSTART:20201025T010000
END:STANDARD
END:VTIMEZONE
BEGIN:VEVENT
DTSTART;TZID=Europe/Luxembourg:20200523T090000
DTEND;TZID=Europe/Luxembourg:20200523T173000
DTSTAMP:20200425T235051
CREATED:20190920T205613Z
LAST-MODIFIED:20190920T210045Z
UID:1139-1590224400-1590255000@www.rctr.lu
SUMMARY:J6 (JPM) Lux League EDR Saison 2019-2020
DESCRIPTION:
URL:http://www.rctr.lu/event/j6-jpm-lux-league-edr-saison-2019-2020/
LOCATION:Cessange\, Rue des Sports\, Luxembourg\, 1321\, Luxembourg
CATEGORIES:Compétition
END:VEVENT
END:VCALENDAR